BEGIN:VCALENDAR
VERSION:2.0
PRODID:-//ChamberMaster//Event Calendar 2.0//EN
METHOD:PUBLISH
X-PUBLISHED-TTL:P3D
REFRESH-INTERVAL:P3D
CALSCALE:GREGORIAN
BEGIN:VEVENT
DTSTART:20251122T150000Z
DTEND:20251122T180000Z
X-MICROSOFT-CDO-ALLDAYEVENT:FALSE
SUMMARY:Trim-A-Tree
DESCRIPTION:TRIM-A-TREE 2025\n\nPresented by the Tinley Park Chamber of Commerce.
X-ALT-DESC;FMTTYPE=text/html:<p font-size:="" style="box-sizing: border-box\; margin-top: 0px\; margin-bottom: 1rem\; font-family: Arial\, Helvetica\, sans-serif\; font-size: 14px\;" trebuchet=""><br />\n<font color="#b22222" face="arial" style="box-sizing: border-box\;"><span style="box-sizing: border-box\; font-size: 12px\;"><span style="box-sizing: border-box\; font-weight: bolder\;"><span style="box-sizing: border-box\; font-size: 24px\;"><span style="box-sizing: border-box\; font-size: 36px\;">TRIM-A-TREE 2025</span></span></span></span></font><br style="box-sizing: border-box\;" />\n<span style="box-sizing: border-box\; font-weight: bolder\;"><span style="box-sizing: border-box\; color: rgb(178\, 34\, 34)\;">Presented by the Tinley Park Chamber of Commerce.&nbsp\;</span></span></p>\n
LOCATION:Harmony Square - Downtown Tinley Park
UID:e.93.9638
SEQUENCE:3
DTSTAMP:20260426T004501Z
URL:http://tinleyparkchamber.chambermaster.com/events/details/trim-a-tree-9638
END:VEVENT

END:VCALENDAR
